BEGIN:VCALENDAR
VERSION:2.0
PRODID:-//Association Longeault Pluvault Environnement - ECPv5.16.4//NONSGML v1.0//EN
CALSCALE:GREGORIAN
METHOD:PUBLISH
X-WR-CALNAME:Association Longeault Pluvault Environnement
X-ORIGINAL-URL:http://longeault-pluvault-environnement.fr
X-WR-CALDESC:évènements pour Association Longeault Pluvault Environnement
REFRESH-INTERVAL;VALUE=DURATION:PT1H
X-Robots-Tag:noindex
X-PUBLISHED-TTL:PT1H
BEGIN:VTIMEZONE
TZID:Europe/Paris
BEGIN:DAYLIGHT
TZOFFSETFROM:+0100
TZOFFSETTO:+0200
TZNAME:CEST
DTSTART:20200329T010000
END:DAYLIGHT
BEGIN:STANDARD
TZOFFSETFROM:+0200
TZOFFSETTO:+0100
TZNAME:CET
DTSTART:20201025T010000
END:STANDARD
BEGIN:DAYLIGHT
TZOFFSETFROM:+0100
TZOFFSETTO:+0200
TZNAME:CEST
DTSTART:20210328T010000
END:DAYLIGHT
BEGIN:STANDARD
TZOFFSETFROM:+0200
TZOFFSETTO:+0100
TZNAME:CET
DTSTART:20211031T010000
END:STANDARD
END:VTIMEZONE
BEGIN:VEVENT
DTSTART;TZID=Europe/Paris:20210829T060000
DTEND;TZID=Europe/Paris:20210829T180000
DTSTAMP:20260420T121351
CREATED:20210703T193216Z
LAST-MODIFIED:20210703T193643Z
UID:1848-1630216800-1630260000@longeault-pluvault-environnement.fr
SUMMARY:Vide grenier 2021
DESCRIPTION:L’association Longeault-Pluvault Environnement organise son vide-grenier en partenariat avec une autre association de la commune l’ASCL \nLe dimanche 29 Août 2021 \nau stade municipal\, rue du parc \nde 6h à 18h \nbarbecue\, buvette \nEntrée gratuite \nrespectons les gestes barrières! \ntarif exposants 2 euros le mètre linéaire\, stand par tranche de 5m \nbulletin d’inscription dans l’onglet vide grenier \n 
URL:http://longeault-pluvault-environnement.fr/event/vide-grenier-2021/
LOCATION:Stade de Longeault
ATTACH;FMTTYPE=image/jpeg:http://longeault-pluvault-environnement.fr/wp-content/uploads/2014/11/thumb_2014_05_18_Longeault_Environnement_Vide_grenier_43.jpg
END:VEVENT
BEGIN:VEVENT
DTSTART;TZID=Europe/Paris:20210629T190000
DTEND;TZID=Europe/Paris:20210629T203000
DTSTAMP:20260420T121351
CREATED:20210626T203732Z
LAST-MODIFIED:20210626T204309Z
UID:1842-1624993200-1624998600@longeault-pluvault-environnement.fr
SUMMARY:réunion LPE
DESCRIPTION:Finalment ordre/contre-ordre je ne peux contenter tout le monde mais pour être un maximum et ce sera mon dernier mot! \nla réunion se tiendra Mardi 29 Juin à 19h a la salle de Pluvault
URL:http://longeault-pluvault-environnement.fr/event/reunion-lpe/
LOCATION:salle polyvalente Pluvault
ATTACH;FMTTYPE=image/jpeg:http://longeault-pluvault-environnement.fr/wp-content/uploads/2021/06/reunion-image.jpg
END:VEVENT
BEGIN:VEVENT
DTSTART;TZID=Europe/Paris:20201024T090000
DTEND;TZID=Europe/Paris:20201024T113000
DTSTAMP:20260420T121351
CREATED:20201020T180403Z
LAST-MODIFIED:20201020T180403Z
UID:1352-1603530000-1603539000@longeault-pluvault-environnement.fr
SUMMARY:plantation de bulbes au verger conservatoire
DESCRIPTION:L’association Longeault-Pluvault Environnement organise la plantation de 800 bulbes de fleurs offerts par l’association sur le site du verger conservatoire le : \nSamedi 24 Octobre 2020 à partir de 9 Heures \nNous participons ainsi à l’embellissement du site et apporterons pour la prochaine saison de quoi nourrir les abeilles de nos ruches ainsi que celles de la commune. \nIl y aura la mise en place d’un range vélo en palette pour participer à la réutilsation d’objets pour leur donner une 2ème vie. \nEn tant que présidente de l’association\, je vous communique cet évènement sur le site du verger conservatoire. \nLa présidente étant absente l’association sera représentée par Philippe le secrétaire et Sébastien le trésorier \,notre spécialiste ruches  Philippe et bien sûr notre spécialiste jardinage Gilles Bruey ainsi que les membres disponibles . \nMerci de votre présence pour communiquer sur cette action originale \nla présidente \nSandrine Boccard
URL:http://longeault-pluvault-environnement.fr/event/plantation-de-bulbes-au-verger-conservatoire/
LOCATION:verger conservatoire\, France
END:VEVENT
BEGIN:VEVENT
DTSTART;TZID=Europe/Paris:20200926T090000
DTEND;TZID=Europe/Paris:20200926T120000
DTSTAMP:20260420T121351
CREATED:20200529T212304Z
LAST-MODIFIED:20200529T212313Z
UID:1045-1601110800-1601121600@longeault-pluvault-environnement.fr
SUMMARY:Opération Nettoyons la nature
DESCRIPTION:Nous organisons comme chaque année l’opération Nettoyons la nature dans le village de Longeault-Pluvault où les enfants et les adultes sont bienvenus pour nous aider à ôter les déchets indésirables le long de la rivière et dans les différents points du village. \nL’opération « Nettoyons la nature » sert un double objectif : agir concrètement pour la préservation de l’environnement tout en sensibilisant le plus largement possible à un sujet qui nous concerne tous. \nNous nous sommes inscrits avec le partenaire magasin Leclerc qui va nous fournir des gants et des chasubles. \nSi vous êtes intéressé pour venir nous aider\, vous pouvez laisser vos coordonnées
URL:http://longeault-pluvault-environnement.fr/event/operation-nettoyons-la-nature/
LOCATION:salle des fetes Longeault\, rue gondevin\, longeault\, 21110\, France
ATTACH;FMTTYPE=image/jpeg:http://longeault-pluvault-environnement.fr/wp-content/uploads/2020/05/nettoyons-la-nature.jpg
END:VEVENT
BEGIN:VEVENT
DTSTART;TZID=Europe/Paris:20200912T110000
DTEND;TZID=Europe/Paris:20200912T170000
DTSTAMP:20260420T121351
CREATED:20200623T164405Z
LAST-MODIFIED:20200623T164405Z
UID:1114-1599908400-1599930000@longeault-pluvault-environnement.fr
SUMMARY:Fête du verger
DESCRIPTION:Inauguration officielle du verger par la mairie de Longeault-Pluvault \nProgramme d’animation sera établi dans les jours à venir \nVenez découvrir ou redécouvrir ce bel espace naturel
URL:http://longeault-pluvault-environnement.fr/event/fete-du-verger/
LOCATION:verger conservatoire vers l’étang à Pluvault\, D116\, Longeault-Pluvault\, 21110\, France
END:VEVENT
BEGIN:VEVENT
DTSTART;TZID=Europe/Paris:20200816T083000
DTEND;TZID=Europe/Paris:20200816T110000
DTSTAMP:20260420T121351
CREATED:20200812T171157Z
LAST-MODIFIED:20200812T171157Z
UID:1251-1597566600-1597575600@longeault-pluvault-environnement.fr
SUMMARY:visite au rucher
DESCRIPTION:contrôle des réserves\, acceptation des colonies rassemblées\, nourrissement. \nRéservé aux membres de l’association
URL:http://longeault-pluvault-environnement.fr/event/visite-au-rucher/
LOCATION:Rucher de la Charme
ORGANIZER;CN="Philippe%20G":MAILTO:pgivet@qrp.fr
END:VEVENT
BEGIN:VEVENT
DTSTART;TZID=Europe/Paris:20200704T131500
DTEND;TZID=Europe/Paris:20200704T180000
DTSTAMP:20260420T121351
CREATED:20200618T205005Z
LAST-MODIFIED:20200618T211107Z
UID:1096-1593868500-1593885600@longeault-pluvault-environnement.fr
SUMMARY:balade à Vélo : réserve naturelle des Maillys  Nouvelle date !!
DESCRIPTION:la balade à vélo est réservée aux membres de l’association (nombre de places limité ) \nrendez vous à 13h15 au lavoir de pluvault \nDépart à 13h30 pour 14km de vélo \n15h00 visite de la réserve avec une guide \n16h30 retour (goûter tiré du sac !) \nPossibilité de se rendre sur place en voiture pour ceux qui veulent ou en cas de mauvais temps !! \ninscription obligatoire avant le mardi 30 juin auprès de Philippe :par mail  bracon.philippe@orange.fr  ou 0675357577
URL:http://longeault-pluvault-environnement.fr/event/balade-a-velo-reserve-naturelle-des-maillys-nouvelle-date/
LOCATION:reserve naturelle des Maillys\, les maillys\, France
ATTACH;FMTTYPE=image/jpeg:http://longeault-pluvault-environnement.fr/wp-content/uploads/2020/06/reserve-de-maillys.jpg
END:VEVENT
BEGIN:VEVENT
DTSTART;TZID=Europe/Paris:20200701T200000
DTEND;TZID=Europe/Paris:20200701T213000
DTSTAMP:20260420T121351
CREATED:20200628T180128Z
LAST-MODIFIED:20200628T180334Z
UID:1130-1593633600-1593639000@longeault-pluvault-environnement.fr
SUMMARY:Réunion d'été
DESCRIPTION:La réunion sera le mercredi 1er juillet à partir de 20h00 à la salle des fêtes de Pluvault où nous pouvons respecter les distances de sécurité….restons prudents! \n  \nCe sera l’occasion de : \nfaire le point sur l’apiculture \nle chemin de la tille \nle verger \nBalade à vélo \nle site internet \nprojets à la rentrée ( fete du verger\, opération nettoyons la nature\, ateliers…) \n  \nVous pouvez déjà prendre note dans vos agendas de l’inauguration officielle du verger le : \nSamedi 12 septembre \nNous proposons d’animer cette journée et de l’intituler Fête du verger. \n\nSi vous ne pouvez venir à la réunion\, merci de me transmettre vos idées\, remarques… \n  \nSandrine
URL:http://longeault-pluvault-environnement.fr/event/reunion-dete/
LOCATION:Salle des fêtes – Pluvault\, 13b rue amiral Violette\, pluvault\, France
END:VEVENT
BEGIN:VEVENT
DTSTART;TZID=Europe/Paris:20200627T143000
DTEND;TZID=Europe/Paris:20200627T163000
DTSTAMP:20260420T121351
CREATED:20200623T213957Z
LAST-MODIFIED:20200623T214038Z
UID:1124-1593268200-1593275400@longeault-pluvault-environnement.fr
SUMMARY:Varroa\, où es-tu ?
DESCRIPTION:Séance formation apiculture : \n\nle varroa\, l’ennemi public n°1 des colonies d’abeilles\nles méthodes de comptage / estimation des infestations\nles méthodes de lutte\nexercice pratique au rucher : la recherche des varroas dans le couvain de mâles.\n\n 
URL:http://longeault-pluvault-environnement.fr/event/varroa-ou-es-tu/
LOCATION:Rucher de la Charme
CATEGORIES:Apiculture
ATTACH;FMTTYPE=image/jpeg:http://longeault-pluvault-environnement.fr/wp-content/uploads/2020/06/varroa.jpg
ORGANIZER;CN="Philippe":MAILTO:pgivet@qrp.fr
END:VEVENT
BEGIN:VEVENT
DTSTART;TZID=Europe/Paris:20200613T084500
DTEND;TZID=Europe/Paris:20200613T120000
DTSTAMP:20260420T121351
CREATED:20200610T194415Z
LAST-MODIFIED:20200610T194415Z
UID:1066-1592037900-1592049600@longeault-pluvault-environnement.fr
SUMMARY:Entretien du chemin de la tille
DESCRIPTION:L’association organise le nettoyage du chemin de la tille ( tonte élagage nettoyage )\,ainsi que l’aménagement du rucher ( barriere en bambous .) \nNous vous attendons avec vos outils et votre bonne humeur !! \nMerci de s’inscrire par mail o SMS au 06 75 35 75 77 pour des facilités d’organisation (casse croûte !!)
URL:http://longeault-pluvault-environnement.fr/event/entretien-du-chemin-de-la-tille/
LOCATION:pont de la tille Longeault\, route nationale\, longeault pluvault\, 21110\, France
ORGANIZER;CN="1049":MAILTO:asso.longeaultenvironnement@orange.fr
END:VEVENT
BEGIN:VEVENT
DTSTART;TZID=Europe/Paris:20200606T133000
DTEND;TZID=Europe/Paris:20200606T183000
DTSTAMP:20260420T121351
CREATED:20200311T222918Z
LAST-MODIFIED:20200601T194822Z
UID:828-1591450200-1591468200@longeault-pluvault-environnement.fr
SUMMARY:balade à Vélo : réserve naturelle des Maillys reportée
DESCRIPTION:la balade est reportée à une date ultérieure !!!\nbalade à vélo qui nous aménera jusqu’à la réserve naturelle des maillys ou nous découvrirons le site avec une guide .
URL:http://longeault-pluvault-environnement.fr/event/balade-a-velo-reserve-naturelle-des-maillys/
LOCATION:depart lavoir de Pluvault\, rue du lavoir\, pluvault\, 21110\, France
END:VEVENT
BEGIN:VEVENT
DTSTART;VALUE=DATE:20200520
DTEND;VALUE=DATE:20200521
DTSTAMP:20260420T121351
CREATED:20200520T154733Z
LAST-MODIFIED:20200520T154733Z
UID:1014-1589932800-1590019199@longeault-pluvault-environnement.fr
SUMMARY:Journée internationale de l'Abeille
DESCRIPTION:Nous dépendons tous de la survie des abeilles\nLes abeilles et les autres pollinisateurs\, tels que les papillons\, les chauves-souris et les colibris\, sont de plus en plus menacés par les activités humaines. \nLa pollinisation est cependant un processus fondamental pour la survie des écosystèmes car de lui dépendent la reproduction de près de 90% des plantes sauvages à fleurs du monde\, ainsi que 75% des cultures vivirères et 35% des terres agricoles à l’échelle de la planète. Non seulement les pollinisateurs contribuent directement à la sécurité alimentaire\, mais ils constituent aussi des leviers essentiels pour la conservation de la biodiversité. \nPour attirer l’attention de tous sur le rôle clé que jouent les pollinisateurs\, sur les menaces auxquelles ils sont confrontés et sur leur importante contribution au développement durable\, les Nations Unies ont décidé de désigner le 20 mai Journée mondiale des abeilles. \nCette journée veut aussi encourager un renforcement des mesures de protection des abeilles et des autres pollinisateurs\, qui peuvent contribuer de manière significative à la résolution des problèmes liés à l’approvisionnement alimentaire mondial\, notamment dans les pays en développement. \nNous dépendons tous des pollinisateurs et il est donc crucial de surveiller leur déclin et de freiner la perte de la biodiversité et la dégradation des écosystèmes. \n 
URL:http://longeault-pluvault-environnement.fr/event/journee-internationale-de-labeille/
LOCATION:Rucher de la Charme
ATTACH;FMTTYPE=image/jpeg:http://longeault-pluvault-environnement.fr/wp-content/uploads/2020/05/journee.jpg
END:VEVENT
BEGIN:VEVENT
DTSTART;TZID=Europe/Paris:20200415T170000
DTEND;TZID=Europe/Paris:20200415T183000
DTSTAMP:20260420T121351
CREATED:20200310T185736Z
LAST-MODIFIED:20200310T190907Z
UID:813-1586970000-1586975400@longeault-pluvault-environnement.fr
SUMMARY:Réalisations d'essaims
DESCRIPTION:initiation à la réalisation d’essaims artificiels
URL:http://longeault-pluvault-environnement.fr/event/realisations-dessaims/
LOCATION:Rucher de la Charme
CATEGORIES:Apiculture
END:VEVENT
BEGIN:VEVENT
DTSTART;TZID=Europe/Paris:20200410T170000
DTEND;TZID=Europe/Paris:20200410T180000
DTSTAMP:20260420T121351
CREATED:20200310T185503Z
LAST-MODIFIED:20200310T185510Z
UID:811-1586538000-1586541600@longeault-pluvault-environnement.fr
SUMMARY:Elevage de reines
DESCRIPTION:Initiation à l’élevage de reines
URL:http://longeault-pluvault-environnement.fr/event/elevage-de-reines-2/
LOCATION:chez Philippe\, Longeault
CATEGORIES:Apiculture
END:VEVENT
BEGIN:VEVENT
DTSTART;TZID=Europe/Paris:20200405T150000
DTEND;TZID=Europe/Paris:20200405T170000
DTSTAMP:20260420T121351
CREATED:20200310T185301Z
LAST-MODIFIED:20200310T185308Z
UID:808-1586098800-1586106000@longeault-pluvault-environnement.fr
SUMMARY:Elevage de reines
DESCRIPTION:initiation à l’élevage de reines
URL:http://longeault-pluvault-environnement.fr/event/elevage-de-reines/
LOCATION:chez Philippe\, Longeault
CATEGORIES:Apiculture
END:VEVENT
BEGIN:VEVENT
DTSTART;TZID=Europe/Paris:20200403T200000
DTEND;TZID=Europe/Paris:20200403T220000
DTSTAMP:20260420T121351
CREATED:20200310T175153Z
LAST-MODIFIED:20200311T184633Z
UID:801-1585944000-1585951200@longeault-pluvault-environnement.fr
SUMMARY:Réunion de l'association
DESCRIPTION:Réunion ordinaire de l’association
URL:http://longeault-pluvault-environnement.fr/event/reunion-de-lassociation-2/
LOCATION:Salle des fêtes – Pluvault\, 13b rue amiral Violette\, pluvault\, France
END:VEVENT
BEGIN:VEVENT
DTSTART;TZID=Europe/Paris:20200318T140000
DTEND;TZID=Europe/Paris:20200318T173000
DTSTAMP:20260420T121351
CREATED:20200311T222201Z
LAST-MODIFIED:20200325T184441Z
UID:824-1584540000-1584552600@longeault-pluvault-environnement.fr
SUMMARY:Balade à Vélo :Les Lamas à Chambeire  : reportée !!
DESCRIPTION:Balade à Vélo reportée !!!\n  \n  \nbalade à vélo de 28 km jusqu’à Cessey sur tille où nous pourrons remplir notre gourde à la fontaine des miracles puis rendre visite aux six filles \,ensuite nous irons jusqu’à l’élevage de la tille à Chambeire voir les lamas et alpagas \,puis retour à pluvault . \n 
URL:http://longeault-pluvault-environnement.fr/event/balade-a-velo-les-lamas-a-chambeire/
LOCATION:depart lavoir de Pluvault\, rue du lavoir\, pluvault\, 21110\, France
END:VEVENT
BEGIN:VEVENT
DTSTART;TZID=Europe/Paris:20200309T201500
DTEND;TZID=Europe/Paris:20200309T223000
DTSTAMP:20260420T121351
CREATED:20200310T174919Z
LAST-MODIFIED:20200310T175219Z
UID:798-1583784900-1583793000@longeault-pluvault-environnement.fr
SUMMARY:Réunion de l'association
DESCRIPTION:Réunion ordinaire de l’association
URL:http://longeault-pluvault-environnement.fr/event/reunion-de-lassociation/
LOCATION:Salle des fêtes – Pluvault\, 13b rue amiral Violette\, pluvault\, France
END:VEVENT
END:VCALENDAR