BEGIN:VCALENDAR
VERSION:2.0
PRODID:-//Association Longeault Pluvault Environnement - ECPv5.16.4//NONSGML v1.0//EN
CALSCALE:GREGORIAN
METHOD:PUBLISH
X-WR-CALNAME:Association Longeault Pluvault Environnement
X-ORIGINAL-URL:https://longeault-pluvault-environnement.fr
X-WR-CALDESC:évènements pour Association Longeault Pluvault Environnement
REFRESH-INTERVAL;VALUE=DURATION:PT1H
X-Robots-Tag:noindex
X-PUBLISHED-TTL:PT1H
BEGIN:VTIMEZONE
TZID:Europe/Paris
BEGIN:DAYLIGHT
TZOFFSETFROM:+0100
TZOFFSETTO:+0200
TZNAME:CEST
DTSTART:20200329T010000
END:DAYLIGHT
BEGIN:STANDARD
TZOFFSETFROM:+0200
TZOFFSETTO:+0100
TZNAME:CET
DTSTART:20201025T010000
END:STANDARD
END:VTIMEZONE
BEGIN:VEVENT
DTSTART;TZID=Europe/Paris:20201024T090000
DTEND;TZID=Europe/Paris:20201024T113000
DTSTAMP:20260426T014325
CREATED:20201020T180403Z
LAST-MODIFIED:20201020T180403Z
UID:1352-1603530000-1603539000@longeault-pluvault-environnement.fr
SUMMARY:plantation de bulbes au verger conservatoire
DESCRIPTION:L’association Longeault-Pluvault Environnement organise la plantation de 800 bulbes de fleurs offerts par l’association sur le site du verger conservatoire le : \nSamedi 24 Octobre 2020 à partir de 9 Heures \nNous participons ainsi à l’embellissement du site et apporterons pour la prochaine saison de quoi nourrir les abeilles de nos ruches ainsi que celles de la commune. \nIl y aura la mise en place d’un range vélo en palette pour participer à la réutilsation d’objets pour leur donner une 2ème vie. \nEn tant que présidente de l’association\, je vous communique cet évènement sur le site du verger conservatoire. \nLa présidente étant absente l’association sera représentée par Philippe le secrétaire et Sébastien le trésorier \,notre spécialiste ruches  Philippe et bien sûr notre spécialiste jardinage Gilles Bruey ainsi que les membres disponibles . \nMerci de votre présence pour communiquer sur cette action originale \nla présidente \nSandrine Boccard
URL:https://longeault-pluvault-environnement.fr/event/plantation-de-bulbes-au-verger-conservatoire/
LOCATION:verger conservatoire\, France
END:VEVENT
END:VCALENDAR